BEGIN:VCALENDAR
VERSION:2.0
PRODID:-//Focales
CALSCALE:GREGORIAN
METHOD:PUBLISH
X-WR-CALNAME:Focales
X-ORIGINAL-URL:https://focales.org/inscription-cycle-de-formation-lyceens-et-apprentis-au-cinema/
X-WR-CALDESC:INSCRIPTIONS DISPOSITIF LYCÉENS ET APPRENTIS AU CINÉMA
BEGIN:VEVENT
DTSTART:20250826T000000
DTEND:20251017T000000
SUMMARY:INSCRIPTIONS DISPOSITIF LYCÉENS ET APPRENTIS AU CINÉMA
DESCRIPTION:
LOCATION:La Jetée, 6 Place Michel-de-l'Hospital, 63058 Clermont-Ferrand
END:VEVENT
END:VCALENDAR
