BEGIN:VCALENDAR
VERSION:2.0
PRODID:-//Focales
CALSCALE:GREGORIAN
METHOD:PUBLISH
X-WR-CALNAME:Focales
X-ORIGINAL-URL:https://focales.org/rencontres-regionales-passeurs-dimages-2/
X-WR-CALDESC:RENCONTRES REGIONALES PASSEURS D&rsquo;IMAGES
BEGIN:VEVENT
DTSTART:20250412T103000
DTEND:20250412T194500
SUMMARY:RENCONTRES REGIONALES PASSEURS D&rsquo;IMAGES
DESCRIPTION:
LOCATION:308 Av. Andrei Sakharov, 69009 Lyon
END:VEVENT
END:VCALENDAR
