BEGIN:VCALENDAR
VERSION:2.0
PRODID:-//Focales
CALSCALE:GREGORIAN
METHOD:PUBLISH
X-WR-CALNAME:Focales
X-ORIGINAL-URL:https://focales.org/court-particulier-lapetitefilleetsonchat/
X-WR-CALDESC:COURT PARTICULIER : LA PETITE FILLE ET SON CHAT PRÉSENTÉ PAR GILLES BERGER
BEGIN:VEVENT
DTSTART:20250520T183000
DTEND:20250520T193000
SUMMARY:COURT PARTICULIER : LA PETITE FILLE ET SON CHAT PRÉSENTÉ PAR GILLES BERGER
DESCRIPTION:
LOCATION:La Jetée, 6 Place Michel-de-l'Hospital, 63058 Clermont-Ferrand
END:VEVENT
END:VCALENDAR
