BEGIN:VCALENDAR
VERSION:2.0
PRODID:-//Focales
CALSCALE:GREGORIAN
METHOD:PUBLISH
X-WR-CALNAME:Focales
X-ORIGINAL-URL:https://focales.org/concours-de-courts-metrages-de-fiction-arte/
X-WR-CALDESC:CONCOURS DE COURTS MÉTRAGES DE FICTION ARTE
BEGIN:VEVENT
DTSTART:20250319T000000
DTEND:20250930T000000
SUMMARY:CONCOURS DE COURTS MÉTRAGES DE FICTION ARTE
DESCRIPTION:
LOCATION:
END:VEVENT
END:VCALENDAR
