BEGIN:VCALENDAR
VERSION:2.0
PRODID:-//Focales
CALSCALE:GREGORIAN
METHOD:PUBLISH
X-WR-CALNAME:Focales
X-ORIGINAL-URL:https://focales.org/ecris-ta-serie-edition-2025-2026/
X-WR-CALDESC:ÉCRIS TA SÉRIE ÉDITION 2025-2026
BEGIN:VEVENT
DTSTART:20250401T000000
DTEND:20250705T000000
SUMMARY:ÉCRIS TA SÉRIE ÉDITION 2025-2026
DESCRIPTION:
LOCATION:
END:VEVENT
END:VCALENDAR
