BEGIN:VCALENDAR
VERSION:2.0
PRODID:-//Focales
CALSCALE:GREGORIAN
METHOD:PUBLISH
X-WR-CALNAME:Focales
X-ORIGINAL-URL:https://focales.org/journee-professionnelle-3-accompagner-les-films-en-salle/
X-WR-CALDESC:JOURNÉE PROFESSIONNELLE #3 : ACCOMPAGNER LES FILMS EN SALLE
BEGIN:VEVENT
DTSTART:20250505T093000
DTEND:20250505T173000
SUMMARY:JOURNÉE PROFESSIONNELLE #3 : ACCOMPAGNER LES FILMS EN SALLE
DESCRIPTION:
LOCATION:9 Bd d'Alsace, 26000 Valence
END:VEVENT
END:VCALENDAR
