BEGIN:VCALENDAR
VERSION:2.0
PRODID:-//Focales
CALSCALE:GREGORIAN
METHOD:PUBLISH
X-WR-CALNAME:Focales
X-ORIGINAL-URL:https://focales.org/cine-concert-georges-melies/
X-WR-CALDESC:CINÉ-CONCERT GEORGES MÉLIÈS
BEGIN:VEVENT
DTSTART:20250507T193000
DTEND:20250507T213000
SUMMARY:CINÉ-CONCERT GEORGES MÉLIÈS
DESCRIPTION:
LOCATION:22 Bd Desaix, 63000 Clermont-Ferrand
END:VEVENT
END:VCALENDAR
