BEGIN:VCALENDAR
VERSION:2.0
PRODID:-//Focales
CALSCALE:GREGORIAN
METHOD:PUBLISH
X-WR-CALNAME:Focales
X-ORIGINAL-URL:https://focales.org/splendor-et-presentation-du-livre-le-roman-du-rio/
X-WR-CALDESC:SPLENDOR ET PRÉSENTATION DU LIVRE « LE ROMAN DU RIO »
BEGIN:VEVENT
DTSTART:20250625T193000
DTEND:20250625T220000
SUMMARY:SPLENDOR ET PRÉSENTATION DU LIVRE « LE ROMAN DU RIO »
DESCRIPTION:
LOCATION:Rue Léo Lagrange, 63000 Clermont-Ferrand
END:VEVENT
END:VCALENDAR
