BEGIN:VCALENDAR
VERSION:2.0
PRODID:-//Focales
CALSCALE:GREGORIAN
METHOD:PUBLISH
X-WR-CALNAME:Focales
X-ORIGINAL-URL:https://focales.org/rencontres-regionales-de-la-mediation-jeune-public-et-publics-jeunes-2025/
X-WR-CALDESC:RENCONTRES RÉGIONALES DE LA MÉDIATION JEUNE PUBLIC ET PUBLICS JEUNES 2025
BEGIN:VEVENT
DTSTART:20250703T093000
DTEND:20250704T160000
SUMMARY:RENCONTRES RÉGIONALES DE LA MÉDIATION JEUNE PUBLIC ET PUBLICS JEUNES 2025
DESCRIPTION:
LOCATION:28 All. Henri Frenay, 38000 Grenoble
END:VEVENT
END:VCALENDAR
