BEGIN:VCALENDAR
VERSION:2.0
PRODID:-//Focales
CALSCALE:GREGORIAN
METHOD:PUBLISH
X-WR-CALNAME:Focales
X-ORIGINAL-URL:https://focales.org/plein-air-courts-metrages-jeune-public-2/
X-WR-CALDESC:PLEIN AIR COURTS MÉTRAGES JEUNE PUBLIC
BEGIN:VEVENT
DTSTART:20250614T213000
DTEND:20250614T230000
SUMMARY:PLEIN AIR COURTS MÉTRAGES JEUNE PUBLIC
DESCRIPTION:
LOCATION:3 Rue de la Pradelle, 63000 Clermont-Ferrand
END:VEVENT
END:VCALENDAR
