BEGIN:VCALENDAR
VERSION:2.0
PRODID:-//Focales
CALSCALE:GREGORIAN
METHOD:PUBLISH
X-WR-CALNAME:Focales
X-ORIGINAL-URL:https://focales.org/plein-air-le-garcon-et-le-heron/
X-WR-CALDESC:PLEIN AIR LE GARÇON ET LE HÉRON
BEGIN:VEVENT
DTSTART:20250729T214500
DTEND:20250729T234500
SUMMARY:PLEIN AIR LE GARÇON ET LE HÉRON
DESCRIPTION:
LOCATION:51 Rue de Châteaudun, 63000 Clermont-Ferrand
END:VEVENT
END:VCALENDAR
