BEGIN:VCALENDAR
VERSION:2.0
PRODID:-//Focales
CALSCALE:GREGORIAN
METHOD:PUBLISH
X-WR-CALNAME:Focales
X-ORIGINAL-URL:https://focales.org/festival-cinema-danimation-piraillon/
X-WR-CALDESC:FESTIVAL CINÉMA D&rsquo;ANIMATION PIRAILLON
BEGIN:VEVENT
DTSTART:20250704T183000
DTEND:20250706T163000
SUMMARY:FESTIVAL CINÉMA D&rsquo;ANIMATION PIRAILLON
DESCRIPTION:
LOCATION:1 Mnt des Fabriqués, 42220 Saint-Julien-Molin-Molette
END:VEVENT
END:VCALENDAR
