BEGIN:VCALENDAR
VERSION:2.0
PRODID:-//Focales
CALSCALE:GREGORIAN
METHOD:PUBLISH
X-WR-CALNAME:Focales
X-ORIGINAL-URL:https://focales.org/plein-air-le-chant-de-la-mer/
X-WR-CALDESC:PLEIN AIR LE CHANT DE LA MER
BEGIN:VEVENT
DTSTART:20250805T214500
DTEND:20250805T234500
SUMMARY:PLEIN AIR LE CHANT DE LA MER
DESCRIPTION:
LOCATION:Boulevard François Mitterrand, Av. Vercingétorix, 63000 Clermont-Ferrand
END:VEVENT
END:VCALENDAR
