BEGIN:VCALENDAR
VERSION:2.0
PRODID:-//Focales
CALSCALE:GREGORIAN
METHOD:PUBLISH
X-WR-CALNAME:Focales
X-ORIGINAL-URL:https://focales.org/la-nuit-de-limage-2025/
X-WR-CALDESC:LA NUIT DE L&rsquo;IMAGE 2025
BEGIN:VEVENT
DTSTART:20250830T150000
DTEND:20250830T234500
SUMMARY:LA NUIT DE L&rsquo;IMAGE 2025
DESCRIPTION:
LOCATION:Boulevard François Mitterrand, Av. Vercingétorix, 63000 Clermont-Ferrand
END:VEVENT
END:VCALENDAR
