BEGIN:VCALENDAR
VERSION:2.0
PRODID:-//Focales
CALSCALE:GREGORIAN
METHOD:PUBLISH
X-WR-CALNAME:Focales
X-ORIGINAL-URL:https://focales.org/coups-de-coeur/
X-WR-CALDESC:SEANCES PLEIN AIR : COUPS DE COEUR 2025
BEGIN:VEVENT
DTSTART:20250812T220000
DTEND:20250812T230000
SUMMARY:SEANCES PLEIN AIR : COUPS DE COEUR 2025
DESCRIPTION:
LOCATION:Place du 1er mai 63000 Clermont-Ferrand
END:VEVENT
END:VCALENDAR
