BEGIN:VCALENDAR
VERSION:2.0
PRODID:-//Focales
CALSCALE:GREGORIAN
METHOD:PUBLISH
X-WR-CALNAME:Focales
X-ORIGINAL-URL:https://focales.org/plein-air-lappel-de-la-foret/
X-WR-CALDESC:PLEIN AIR : L&rsquo;APPEL DE LA FORÊT
BEGIN:VEVENT
DTSTART:20250819T220000
DTEND:20250819T234500
SUMMARY:PLEIN AIR : L&rsquo;APPEL DE LA FORÊT
DESCRIPTION:
LOCATION:Parvis de la basilique Notre-Dame-du-Port 4 rue Notre-Dame-du-Port 63000 Clermont-Ferrand
END:VEVENT
END:VCALENDAR
