BEGIN:VCALENDAR
VERSION:2.0
PRODID:-//Focales
CALSCALE:GREGORIAN
METHOD:PUBLISH
X-WR-CALNAME:Focales
X-ORIGINAL-URL:https://focales.org/un-petit-truc-en-plus-de-artus-clermont-ferrand/
X-WR-CALDESC:PLEIN AIR : UN P&rsquo;TIT TRUC EN PLUS
BEGIN:VEVENT
DTSTART:20250828T213000
DTEND:20250828T234500
SUMMARY:PLEIN AIR : UN P&rsquo;TIT TRUC EN PLUS
DESCRIPTION:
LOCATION:Îlot Winston-Churchill 5 boulevard Winston-Churchill 63000 Clermont-Ferrand
END:VEVENT
END:VCALENDAR
