BEGIN:VCALENDAR
VERSION:2.0
PRODID:-//Focales
CALSCALE:GREGORIAN
METHOD:PUBLISH
X-WR-CALNAME:Focales
X-ORIGINAL-URL:https://focales.org/festival-de-riom-2023-sales-gosses-2/
X-WR-CALDESC:AMELIE ET LA METAPHYSIQUE DES TUBES EN PRESENCE DE FANOU LEFEBVRE
BEGIN:VEVENT
DTSTART:20250712T180000
DTEND:20250712T200000
SUMMARY:AMELIE ET LA METAPHYSIQUE DES TUBES EN PRESENCE DE FANOU LEFEBVRE
DESCRIPTION:
LOCATION:Cinéma Arcadia, 2B Fbg de la Bade, 63200 Riom
END:VEVENT
END:VCALENDAR
