BEGIN:VCALENDAR
VERSION:2.0
PRODID:-//Focales
CALSCALE:GREGORIAN
METHOD:PUBLISH
X-WR-CALNAME:Focales
X-ORIGINAL-URL:https://focales.org/plein-air-migration-thiers/
X-WR-CALDESC:PLEIN AIR MIGRATION
BEGIN:VEVENT
DTSTART:20250730T213000
DTEND:20250730T230000
SUMMARY:PLEIN AIR MIGRATION
DESCRIPTION:
LOCATION:Place Antonin Chastel, Thiers
END:VEVENT
END:VCALENDAR
