BEGIN:VCALENDAR
VERSION:2.0
PRODID:-//Focales
CALSCALE:GREGORIAN
METHOD:PUBLISH
X-WR-CALNAME:Focales
X-ORIGINAL-URL:https://focales.org/argentique-le-rio/
X-WR-CALDESC:Projection en argentique
BEGIN:VEVENT
DTSTART:20250920T163000
DTEND:20250920T183000
SUMMARY:Projection en argentique
DESCRIPTION:
LOCATION:La Lampisterie, Brassac-les-mines
END:VEVENT
END:VCALENDAR
