BEGIN:VCALENDAR
VERSION:2.0
PRODID:-//Focales
CALSCALE:GREGORIAN
METHOD:PUBLISH
X-WR-CALNAME:Focales
X-ORIGINAL-URL:https://focales.org/plein-air-ma-vie-de-courgette-dolet/
X-WR-CALDESC:PLEIN AIR : MA VIE DE COURGETTE
BEGIN:VEVENT
DTSTART:20250913T210000
DTEND:20250913T221500
SUMMARY:PLEIN AIR : MA VIE DE COURGETTE
DESCRIPTION:
LOCATION:Lieu de vie, 25 rue Etienne Dolet, Clermont-Ferrand
END:VEVENT
END:VCALENDAR
