BEGIN:VCALENDAR
VERSION:2.0
PRODID:-//Focales
CALSCALE:GREGORIAN
METHOD:PUBLISH
X-WR-CALNAME:Focales
X-ORIGINAL-URL:https://focales.org/animation-realite-virtuelle/
X-WR-CALDESC:Animation réalité virtuelle
BEGIN:VEVENT
DTSTART:20250920T130000
DTEND:20250921T190000
SUMMARY:Animation réalité virtuelle
DESCRIPTION:
LOCATION:4 rue Blaise Pascal, Clermont-Ferrand
END:VEVENT
END:VCALENDAR
