BEGIN:VCALENDAR
VERSION:2.0
PRODID:-//Focales
CALSCALE:GREGORIAN
METHOD:PUBLISH
X-WR-CALNAME:Focales
X-ORIGINAL-URL:https://focales.org/partir-un-jour/
X-WR-CALDESC:PARTIR UN JOUR
BEGIN:VEVENT
DTSTART:20250915T203000
DTEND:20250915T230000
SUMMARY:PARTIR UN JOUR
DESCRIPTION:
LOCATION:Le Capitole, Clermont-Ferrand
END:VEVENT
END:VCALENDAR
