BEGIN:VCALENDAR
VERSION:2.0
PRODID:-//Focales
CALSCALE:GREGORIAN
METHOD:PUBLISH
X-WR-CALNAME:Focales
X-ORIGINAL-URL:https://focales.org/formation-la-balade-de-babouchka/
X-WR-CALDESC:FORMATION LA BALADE DE BABOUCHKA
BEGIN:VEVENT
DTSTART:20160113T170000
DTEND:20160113T190000
SUMMARY:FORMATION LA BALADE DE BABOUCHKA
DESCRIPTION:
LOCATION:Canopé - Le Puy-en-Velay
END:VEVENT
END:VCALENDAR
