BEGIN:VCALENDAR
VERSION:2.0
PRODID:-//Focales
CALSCALE:GREGORIAN
METHOD:PUBLISH
X-WR-CALNAME:Focales
X-ORIGINAL-URL:https://focales.org/festival-du-court-metrage-jury-etudiant/
X-WR-CALDESC:Festival du Court Métrage &#8211; Jury étudiant
BEGIN:VEVENT
DTSTART:20250903T000000
DTEND:20251118T000000
SUMMARY:Festival du Court Métrage &#8211; Jury étudiant
DESCRIPTION:
LOCATION:
END:VEVENT
END:VCALENDAR
