BEGIN:VCALENDAR
VERSION:2.0
PRODID:-//Focales
CALSCALE:GREGORIAN
METHOD:PUBLISH
X-WR-CALNAME:Focales
X-ORIGINAL-URL:https://focales.org/court-particulier-wild-summon/
X-WR-CALDESC:Court particulier : WILD SUMMON
BEGIN:VEVENT
DTSTART:20251021T183000
DTEND:20251021T193000
SUMMARY:Court particulier : WILD SUMMON
DESCRIPTION:
LOCATION:La Jetée, 6 place Michel de l’Hospital, 63000 Clermont-Ferrand
END:VEVENT
END:VCALENDAR
