BEGIN:VCALENDAR
VERSION:2.0
PRODID:-//Focales
CALSCALE:GREGORIAN
METHOD:PUBLISH
X-WR-CALNAME:Focales
X-ORIGINAL-URL:https://focales.org/session-decouverte-de-la-realite-virtuelle/
X-WR-CALDESC:Session découverte de la réalité virtuelle
BEGIN:VEVENT
DTSTART:20251029T140000
DTEND:20251030T180000
SUMMARY:Session découverte de la réalité virtuelle
DESCRIPTION:
LOCATION:La Jetée, 6 place Michel de l’Hospital, 63000 Clermont-Ferrand
END:VEVENT
END:VCALENDAR
