BEGIN:VCALENDAR
VERSION:2.0
PRODID:-//Focales
CALSCALE:GREGORIAN
METHOD:PUBLISH
X-WR-CALNAME:Focales
X-ORIGINAL-URL:https://focales.org/festival-connexions/
X-WR-CALDESC:FESTIVAL CONNEXIONS
BEGIN:VEVENT
DTSTART:20251105T000000
DTEND:20251122T000000
SUMMARY:FESTIVAL CONNEXIONS
DESCRIPTION:
LOCATION:
END:VEVENT
END:VCALENDAR
