BEGIN:VCALENDAR
VERSION:2.0
PRODID:-//Focales
CALSCALE:GREGORIAN
METHOD:PUBLISH
X-WR-CALNAME:Focales
X-ORIGINAL-URL:https://focales.org/focus-sur-les-films-de-dyana-gaye/
X-WR-CALDESC:FOCUS SUR LES FILMS DE DYANA GAYE
BEGIN:VEVENT
DTSTART:20250929T183000
DTEND:20250929T203000
SUMMARY:FOCUS SUR LES FILMS DE DYANA GAYE
DESCRIPTION:
LOCATION:La Jetée, 6 place Michel de l’Hospital, 63000 Clermont-Ferrand
END:VEVENT
END:VCALENDAR
