BEGIN:VCALENDAR
VERSION:2.0
PRODID:-//Focales
CALSCALE:GREGORIAN
METHOD:PUBLISH
X-WR-CALNAME:Focales
X-ORIGINAL-URL:https://focales.org/inscrire-une-classe-au-festival-du-court-metrage/
X-WR-CALDESC:INSCRIRE UNE CLASSE AU FESTIVAL DU COURT MÉTRAGE
BEGIN:VEVENT
DTSTART:20260126T000000
DTEND:20260206T000000
SUMMARY:INSCRIRE UNE CLASSE AU FESTIVAL DU COURT MÉTRAGE
DESCRIPTION:
LOCATION:
END:VEVENT
END:VCALENDAR
