BEGIN:VCALENDAR
VERSION:2.0
PRODID:-//Focales
CALSCALE:GREGORIAN
METHOD:PUBLISH
X-WR-CALNAME:Focales
X-ORIGINAL-URL:https://focales.org/rencontres-regionales-passeurs-dimages-3/
X-WR-CALDESC:Rencontres régionales Passeurs d&rsquo;images
BEGIN:VEVENT
DTSTART:20251004T100000
DTEND:20251004T180000
SUMMARY:Rencontres régionales Passeurs d&rsquo;images
DESCRIPTION:
LOCATION:Espace Jacques Estérel, Place de la Soierie - BP 23, 42 220 Bourg-Argental
END:VEVENT
END:VCALENDAR
