BEGIN:VCALENDAR
VERSION:2.0
PRODID:-//Focales
CALSCALE:GREGORIAN
METHOD:PUBLISH
X-WR-CALNAME:Focales
X-ORIGINAL-URL:https://focales.org/festival-de-cinema-jean-carmet/
X-WR-CALDESC:Festival de cinéma Jean Carmet
BEGIN:VEVENT
DTSTART:20251008T000000
DTEND:20251014T000000
SUMMARY:Festival de cinéma Jean Carmet
DESCRIPTION:
LOCATION:Moulins
END:VEVENT
END:VCALENDAR
