BEGIN:VCALENDAR
VERSION:2.0
PRODID:-//Focales
CALSCALE:GREGORIAN
METHOD:PUBLISH
X-WR-CALNAME:Focales
X-ORIGINAL-URL:https://focales.org/ia-et-culture-naviguer-dans-linconnu-ou-vers-de-nouveaux-horizons/
X-WR-CALDESC:IA et culture : naviguer dans l&rsquo;inconnu ou vers de nouveaux horizons ?
BEGIN:VEVENT
DTSTART:20251120T084500
DTEND:20251120T163000
SUMMARY:IA et culture : naviguer dans l&rsquo;inconnu ou vers de nouveaux horizons ?
DESCRIPTION:
LOCATION:CNFPT, 42-44 rue Auger, 63100 Clermont-Ferrand
END:VEVENT
END:VCALENDAR
