BEGIN:VCALENDAR
VERSION:2.0
PRODID:-//Focales
CALSCALE:GREGORIAN
METHOD:PUBLISH
X-WR-CALNAME:Focales
X-ORIGINAL-URL:https://focales.org/inscriptions-aux-activites-culturelles-du-suc/
X-WR-CALDESC:Inscriptions aux activités culturelles du SUC
BEGIN:VEVENT
DTSTART:20250905T000000
DTEND:20251031T000000
SUMMARY:Inscriptions aux activités culturelles du SUC
DESCRIPTION:
LOCATION:
END:VEVENT
END:VCALENDAR
