BEGIN:VCALENDAR
VERSION:2.0
PRODID:-//Focales
CALSCALE:GREGORIAN
METHOD:PUBLISH
X-WR-CALNAME:Focales
X-ORIGINAL-URL:https://focales.org/en-quete-de-sens/
X-WR-CALDESC:EN QUETE DE SENS
BEGIN:VEVENT
DTSTART:20150923T200000
DTEND:20150923T220000
SUMMARY:EN QUETE DE SENS
DESCRIPTION:
LOCATION:cinéma le rio - Clermont-Ferrand
END:VEVENT
END:VCALENDAR
