BEGIN:VCALENDAR
VERSION:2.0
PRODID:-//Focales
CALSCALE:GREGORIAN
METHOD:PUBLISH
X-WR-CALNAME:Focales
X-ORIGINAL-URL:https://focales.org/courts-sante-et-travail/
X-WR-CALDESC:Courts, Santé et Travail
BEGIN:VEVENT
DTSTART:20251003T083000
DTEND:20251004T181500
SUMMARY:Courts, Santé et Travail
DESCRIPTION:
LOCATION:Maison de la culture Salle Boris Vian Clermont-Ferrand
END:VEVENT
END:VCALENDAR
