BEGIN:VCALENDAR
VERSION:2.0
PRODID:-//Focales
CALSCALE:GREGORIAN
METHOD:PUBLISH
X-WR-CALNAME:Focales
X-ORIGINAL-URL:https://focales.org/cinearts/
X-WR-CALDESC:CINÉARTS
BEGIN:VEVENT
DTSTART:20251107T180000
DTEND:20251111T200000
SUMMARY:CINÉARTS
DESCRIPTION:
LOCATION:Cinéma la Façade, Ambert
END:VEVENT
END:VCALENDAR
