BEGIN:VCALENDAR
VERSION:2.0
PRODID:-//Focales
CALSCALE:GREGORIAN
METHOD:PUBLISH
X-WR-CALNAME:Focales
X-ORIGINAL-URL:https://focales.org/letrange-festival-2025/
X-WR-CALDESC:L&rsquo;ETRANGE FESTIVAL 2025
BEGIN:VEVENT
DTSTART:20251104T200000
DTEND:20251111T223000
SUMMARY:L&rsquo;ETRANGE FESTIVAL 2025
DESCRIPTION:
LOCATION:Cinéma capitole, Clermont-Ferrand
END:VEVENT
END:VCALENDAR
