BEGIN:VCALENDAR
VERSION:2.0
PRODID:-//Focales
CALSCALE:GREGORIAN
METHOD:PUBLISH
X-WR-CALNAME:Focales
X-ORIGINAL-URL:https://focales.org/traces-de-vie/
X-WR-CALDESC:TRACES DE VIE
BEGIN:VEVENT
DTSTART:20251123T180000
DTEND:20251129T000000
SUMMARY:TRACES DE VIE
DESCRIPTION:
LOCATION:Maison de la culture, Clermont-Ferrand
END:VEVENT
END:VCALENDAR
