BEGIN:VCALENDAR
VERSION:2.0
PRODID:-//Focales
CALSCALE:GREGORIAN
METHOD:PUBLISH
X-WR-CALNAME:Focales
X-ORIGINAL-URL:https://focales.org/les-montreurs-de-lanterne-magique/
X-WR-CALDESC:LES MONTREURS DE LANTERNE MAGIQUE
BEGIN:VEVENT
DTSTART:20251106T181500
DTEND:20251106T191500
SUMMARY:LES MONTREURS DE LANTERNE MAGIQUE
DESCRIPTION:
LOCATION:Musée de Rumilly
END:VEVENT
END:VCALENDAR
