BEGIN:VCALENDAR
VERSION:2.0
PRODID:-//Focales
CALSCALE:GREGORIAN
METHOD:PUBLISH
X-WR-CALNAME:Focales
X-ORIGINAL-URL:https://focales.org/chronique-dun-ete/
X-WR-CALDESC:CHRONIQUE D&rsquo;UN ÉTÉ
BEGIN:VEVENT
DTSTART:20251106T200000
DTEND:20251106T223000
SUMMARY:CHRONIQUE D&rsquo;UN ÉTÉ
DESCRIPTION:
LOCATION:La Jetée, Clermont-Ferrand
END:VEVENT
END:VCALENDAR
