BEGIN:VCALENDAR
VERSION:2.0
PRODID:-//Focales
CALSCALE:GREGORIAN
METHOD:PUBLISH
X-WR-CALNAME:Focales
X-ORIGINAL-URL:https://focales.org/papillon-de-florence-miailhe-analyse-par-natacha-karaman-et-charline-montagne/
X-WR-CALDESC:PAPILLON DE FLORENCE MIAILHE ANALYSÉ PAR NATACHA KARAMAN ET CHARLINE MONTAGNÉ
BEGIN:VEVENT
DTSTART:20251113T183000
DTEND:20251113T193000
SUMMARY:PAPILLON DE FLORENCE MIAILHE ANALYSÉ PAR NATACHA KARAMAN ET CHARLINE MONTAGNÉ
DESCRIPTION:
LOCATION:La Jetée, 6 Place Michel-de-l'Hospital, 63058 Clermont-Ferrand
END:VEVENT
END:VCALENDAR
