BEGIN:VCALENDAR
VERSION:2.0
PRODID:-//Focales
CALSCALE:GREGORIAN
METHOD:PUBLISH
X-WR-CALNAME:Focales
X-ORIGINAL-URL:https://focales.org/la-riviere-du-hibou-analyse-par-christian-guinot/
X-WR-CALDESC:LA RIVIERE DU HIBOU ANALYSÉ PAR CHRISTIAN GUINOT
BEGIN:VEVENT
DTSTART:20251210T183000
DTEND:20251210T193000
SUMMARY:LA RIVIERE DU HIBOU ANALYSÉ PAR CHRISTIAN GUINOT
DESCRIPTION:
LOCATION:La Jetée, 6 Place Michel-de-l'Hospital, 63058 Clermont-Ferrand
END:VEVENT
END:VCALENDAR
