BEGIN:VCALENDAR
VERSION:2.0
PRODID:-//Focales
CALSCALE:GREGORIAN
METHOD:PUBLISH
X-WR-CALNAME:Focales
X-ORIGINAL-URL:https://focales.org/hors-service-en-presence-de-lune-des-protagonistes-du-film/
X-WR-CALDESC:HORS-SERVICE EN PRÉSENCE DE L&rsquo;UNE DES PROTAGONISTES DU FILM
BEGIN:VEVENT
DTSTART:20251202T200000
DTEND:20251202T223000
SUMMARY:HORS-SERVICE EN PRÉSENCE DE L&rsquo;UNE DES PROTAGONISTES DU FILM
DESCRIPTION:
LOCATION:Le Lieu-Dit, Clermont-Ferrand
END:VEVENT
END:VCALENDAR
