BEGIN:VCALENDAR
VERSION:2.0
PRODID:-//Focales
CALSCALE:GREGORIAN
METHOD:PUBLISH
X-WR-CALNAME:Focales
X-ORIGINAL-URL:https://focales.org/stoned-en-presence-demmanuel-grimaud/
X-WR-CALDESC:STONED EN PRÉSENCE D&rsquo;EMMANUEL GRIMAUD
BEGIN:VEVENT
DTSTART:20251206T173000
DTEND:20251206T194500
SUMMARY:STONED EN PRÉSENCE D&rsquo;EMMANUEL GRIMAUD
DESCRIPTION:
LOCATION:Cinéma Arcadia, Riom
END:VEVENT
END:VCALENDAR
