BEGIN:VCALENDAR
VERSION:2.0
PRODID:-//Focales
CALSCALE:GREGORIAN
METHOD:PUBLISH
X-WR-CALNAME:Focales
X-ORIGINAL-URL:https://focales.org/3-courts-metrages-en-presence-du-realisateur-et-de-lacteur/
X-WR-CALDESC:3 COURTS MÉTRAGES EN PRESENCE DU RÉALISATEUR ET DE L&rsquo;ACTEUR D&rsquo;UN DES FILMS
BEGIN:VEVENT
DTSTART:20251203T180000
DTEND:20251203T201500
SUMMARY:3 COURTS MÉTRAGES EN PRESENCE DU RÉALISATEUR ET DE L&rsquo;ACTEUR D&rsquo;UN DES FILMS
DESCRIPTION:
LOCATION:Cinéma le Palace, Montluçon
END:VEVENT
END:VCALENDAR
