BEGIN:VCALENDAR
VERSION:2.0
PRODID:-//Focales
CALSCALE:GREGORIAN
METHOD:PUBLISH
X-WR-CALNAME:Focales
X-ORIGINAL-URL:https://focales.org/court-particulier-hiver/
X-WR-CALDESC:COURT PARTICULIER « HIVER »
BEGIN:VEVENT
DTSTART:20260123T183000
DTEND:20260123T193000
SUMMARY:COURT PARTICULIER « HIVER »
DESCRIPTION:
LOCATION:La Jetée, Clermont-Ferrand
END:VEVENT
END:VCALENDAR
