BEGIN:VCALENDAR
VERSION:2.0
PRODID:-//Focales
CALSCALE:GREGORIAN
METHOD:PUBLISH
X-WR-CALNAME:Focales
X-ORIGINAL-URL:https://focales.org/derriere-les-images-du-reel/
X-WR-CALDESC:DERRIERE LES IMAGES DU REEL
BEGIN:VEVENT
DTSTART:20251210T143000
DTEND:20251210T163000
SUMMARY:DERRIERE LES IMAGES DU REEL
DESCRIPTION:
LOCATION:Médiathèque Jacques Prévert, Lempdes
END:VEVENT
END:VCALENDAR
