BEGIN:VCALENDAR
VERSION:2.0
PRODID:-//Focales
CALSCALE:GREGORIAN
METHOD:PUBLISH
X-WR-CALNAME:Focales
X-ORIGINAL-URL:https://focales.org/cinelab-le-cinema-peut-il-soigner/
X-WR-CALDESC:CINÉLAB : LE CINÉMA PEUT-IL SOIGNER ?
BEGIN:VEVENT
DTSTART:20260129T093000
DTEND:20260129T170000
SUMMARY:CINÉLAB : LE CINÉMA PEUT-IL SOIGNER ?
DESCRIPTION:
LOCATION:Ciné Rillieux, 81 bis Av. de l'Europe, 69140 Rillieux-la-Pape
END:VEVENT
END:VCALENDAR
