BEGIN:VCALENDAR
VERSION:2.0
PRODID:-//Focales
CALSCALE:GREGORIAN
METHOD:PUBLISH
X-WR-CALNAME:Focales
X-ORIGINAL-URL:https://focales.org/court-particulier-analyse-du-court-metrage-a-bear-remenbers/
X-WR-CALDESC:COURT PARTICULIER : ANALYSE DU COURT MÉTRAGE A BEAR REMEMBERS
BEGIN:VEVENT
DTSTART:20260226T183000
DTEND:20260226T193000
SUMMARY:COURT PARTICULIER : ANALYSE DU COURT MÉTRAGE A BEAR REMEMBERS
DESCRIPTION:
LOCATION:La Jetée, 6 Place Michel de l'Hospital, 63000 Clermont-Ferrand
END:VEVENT
END:VCALENDAR
